BEGIN:VCALENDAR
VERSION:2.0
BEGIN:VEVENT
SUMMARY:Reach out to Dominion Energy Innovation Center about Greentech Network
DESCRIPTION:Reach out to them for information about their program.\n\nDescription: The Greentech Network is designed with the growth of your startup in mind. Join the Energy Tech Virginia Meetup Group to connect with like-minded individuals passionate about clean energy solutions, networking, and fostering a sustainable future.\n\n- Email: braden@dominnovation.com\n- Source: https://founder-nav.com/programs/recEzdwY8OQPDSt2Q\n\n---\nBrought to you by Founder Nav, helping entrepreneurs navigate the entrepreneurial ecosystem.
DTSTART:20260425T100046Z
DTEND:20260425T103046Z
END:VEVENT
END:VCALENDAR