BEGIN:VCALENDAR
VERSION:2.0
BEGIN:VEVENT
SUMMARY:Reach out to WET Center – Valley Ventures about Valley Ventures Accelerator
DESCRIPTION:Reach out to them for information about their program.\n\nDescription: Offers advanced-stage startups immersive sales training, pilot demonstrations, mentorship, and investor connections, focusing on agtech innovation through hybrid online and in-person sessions, industry networking, and opportunities to showcase solutions to the Central Valley agricultural community.\n\n- Phone: (559) 278-4540\n- Email: info@wetcenter.org\n- Source: https://founder-nav.com/programs/recEyYeUn5hNq9VAv\n\n---\nBrought to you by Founder Nav, helping entrepreneurs navigate the entrepreneurial ecosystem.
DTSTART:20260425T100015Z
DTEND:20260425T103015Z
END:VEVENT
END:VCALENDAR