BEGIN:VCALENDAR
VERSION:2.0
BEGIN:VEVENT
SUMMARY:Reach out to Maryland Business Opportunity Center about Maryland Business Opportunity Center (MBOC) Business Counseling & Training
DESCRIPTION:Reach out to them for information about their program.\n\nDescription: An SBA-funded center hosted by the University of Maryland that provides free business counseling, training, and technical assistance to minority-owned, women-owned, and underserved small businesses across Maryland. Services include business planning, market research, financial management, marketing strategy, succession planning, and connections to capital and other SBA resources.\n\n- Phone: (240) 828-5205\n- Email: mbocadmin@umd.edu\n- Source: https://founder-nav.com/programs/recEoy0j6UOKfkkJi\n\n---\nBrought to you by Founder Nav, helping entrepreneurs navigate the entrepreneurial ecosystem.
DTSTART:20260425T100031Z
DTEND:20260425T103031Z
END:VEVENT
END:VCALENDAR