BEGIN:VCALENDAR
VERSION:2.0
BEGIN:VEVENT
SUMMARY:Reach out to Mayo Clinic & ASU Health Care Accelerator about Mayo Clinic & ASU MedTech Accelerator
DESCRIPTION:Reach out to them for information about their program.\n\nDescription: A highly competitive annual accelerator program for early- to mid-stage medical device, health IT, and life science companies, providing immersive multi-week curriculum at Mayo Clinic and ASU with clinical validation, regulatory guidance, and commercialization support.\n\n- Source: https://founder-nav.com/programs/recEeKczkN6SgfwZj\n\n---\nBrought to you by Founder Nav, helping entrepreneurs navigate the entrepreneurial ecosystem.
DTSTART:20260425T100026Z
DTEND:20260425T103026Z
END:VEVENT
END:VCALENDAR