BEGIN:VCALENDAR
VERSION:2.0
BEGIN:VEVENT
SUMMARY:Reach out to Bronze Valley about Bronze Valley Investment Accelerator
DESCRIPTION:Reach out to them for information about their program.\n\nDescription: Six-month investment accelerator investing up to $100K in high-growth startups with focus on under-resourced entrepreneurs through intensive programming and investor access.\n\n- Email: darren@gener8tor.com\n- Source: https://founder-nav.com/programs/recEZHy0Nbgpnk2FN\n\n---\nBrought to you by Founder Nav, helping entrepreneurs navigate the entrepreneurial ecosystem.
DTSTART:20260425T100048Z
DTEND:20260425T103048Z
END:VEVENT
END:VCALENDAR