BEGIN:VCALENDAR
VERSION:2.0
BEGIN:VEVENT
SUMMARY:Reach out to Connecticut Main Street Center about Diversity on Main Program
DESCRIPTION:Reach out to them for information about their program.\n\nDescription: Connects minority business owners with vacant downtown storefronts, providing training, technical assistance, and a collaborative framework to advance equity, support entrepreneurship, and revitalize main streets in Connecticut communities.\n\n- Phone: (860) 280-2337\n- Email: michelle@ctmainstreet.org\n- Source: https://founder-nav.com/programs/recEQ7Vch1BfDGJFE\n\n---\nBrought to you by Founder Nav, helping entrepreneurs navigate the entrepreneurial ecosystem.
DTSTART:20260425T100011Z
DTEND:20260425T103011Z
END:VEVENT
END:VCALENDAR