BEGIN:VCALENDAR
VERSION:2.0
BEGIN:VEVENT
SUMMARY:Reach out to MERGE Iowa City about Iowa Startup Accelerator (ISA)
DESCRIPTION:Reach out to them for information about their program.\n\nDescription: 7-week accelerator relaunched in 2025 by NewBoCo, helping Iowa-based startups post-customer-discovery sharpen branding, marketing, and sales strategies through expert coaching and a Demo Day pitch.\n\n- Email: hello@newbo.co\n- Source: https://founder-nav.com/programs/recE7poJtxw1kpGPV\n\n---\nBrought to you by Founder Nav, helping entrepreneurs navigate the entrepreneurial ecosystem.
DTSTART:20260425T100052Z
DTEND:20260425T103052Z
END:VEVENT
END:VCALENDAR