BEGIN:VCALENDAR
VERSION:2.0
BEGIN:VEVENT
SUMMARY:Reach out to SCORE Maine about Business Mentoring Program
DESCRIPTION:Reach out to them for information about their program.\n\nDescription: Free, confidential one-on-one business mentoring for Maine entrepreneurs at any stage—startup, growth, or transition. SCORE's 120+ volunteer mentors are experienced professionals offering guidance on business planning, financing, marketing, operations, and more, available in-person or virtually.\n\n- Phone: (207) 772-1147\n- Email: scoremaine@gmail.com\n- Source: https://founder-nav.com/programs/recE6FaYFDU7HOAT3\n\n---\nBrought to you by Founder Nav, helping entrepreneurs navigate the entrepreneurial ecosystem.
DTSTART:20260425T100029Z
DTEND:20260425T103029Z
END:VEVENT
END:VCALENDAR