BEGIN:VCALENDAR
VERSION:2.0
BEGIN:VEVENT
SUMMARY:Reach out to Western Iowa SBDC about No-Cost Business Advising & Counseling
DESCRIPTION:Reach out to them for information about their program.\n\nDescription: Free, confidential, customized one-on-one business counseling for entrepreneurs and small businesses in Western Iowa through the America's SBDC Iowa network.\n\n- Source: https://founder-nav.com/programs/recE2PbvsxH97YbOb\n\n---\nBrought to you by Founder Nav, helping entrepreneurs navigate the entrepreneurial ecosystem.
DTSTART:20260425T100031Z
DTEND:20260425T103031Z
END:VEVENT
END:VCALENDAR