BEGIN:VCALENDAR
VERSION:2.0
BEGIN:VEVENT
SUMMARY:Reach out to New England Ocean Cluster about Inclusion in the Blue Economy
DESCRIPTION:Reach out to them for information about their program.\n\nDescription: A sponsorship program providing entrepreneurs from underrepresented demographics (women, people of color, individuals from non-marine industries) with dedicated workspace at The Hús, mentorship, and access to the NEOC's collaborative ocean economy community. Launched 2020, sponsored by Bristol Seafood.\n\n- Phone: (207) 408-5391\n- Email: patrick.arnold@newenglandoceancluster.com\n- Source: https://founder-nav.com/programs/recDwv9LSLr5dyaHx\n\n---\nBrought to you by Founder Nav, helping entrepreneurs navigate the entrepreneurial ecosystem.
DTSTART:20260425T100041Z
DTEND:20260425T103041Z
END:VEVENT
END:VCALENDAR