BEGIN:VCALENDAR
VERSION:2.0
BEGIN:VEVENT
SUMMARY:Reach out to Unknown Hub about Murrieta Innovation Center Incubator
DESCRIPTION:Reach out to them for information about their program.\n\nDescription: Supports early-stage companies in healthcare technologies and medical devices by providing resources, mentoring, and a collaborative environment to help startups grow and commercialize innovative solutions in the Southwest Riverside County area.\n\n- Email: heather@impactswrc.org\n- Source: https://founder-nav.com/programs/recDkMJeYOL9iwOEP\n\n---\nBrought to you by Founder Nav, helping entrepreneurs navigate the entrepreneurial ecosystem.
DTSTART:20260425T100010Z
DTEND:20260425T103010Z
END:VEVENT
END:VCALENDAR