BEGIN:VCALENDAR
VERSION:2.0
BEGIN:VEVENT
SUMMARY:Reach out to Unknown Hub about Pipeline 4.0 Workforce Development
DESCRIPTION:Reach out to them for information about their program.\n\nDescription: Connects young adults with free technical skills training, certifications, and job placement in IT support, UX/UI design, and cybersecurity, aiming to increase economic self-sufficiency and workforce equity for underrepresented communities.\n\n- Phone: (860) 501-0000\n- Email: info@girlsfortechnology.org\n- Source: https://founder-nav.com/programs/recDjalnauuE2xQr4\n\n---\nBrought to you by Founder Nav, helping entrepreneurs navigate the entrepreneurial ecosystem.
DTSTART:20260425T100028Z
DTEND:20260425T103028Z
END:VEVENT
END:VCALENDAR