BEGIN:VCALENDAR
VERSION:2.0
BEGIN:VEVENT
SUMMARY:Reach out to SCORE Eastern Idaho about Free Business Mentoring
DESCRIPTION:Reach out to them for information about their program.\n\nDescription: Free, confidential one-on-one business mentoring for entrepreneurs in Eastern Idaho. Located at the Idaho Innovation Center in Idaho Falls. SCORE Eastern Idaho is an SBA resource partner providing no-fee advisory services.\n\n- Source: https://founder-nav.com/programs/recDec5RbDZjHkG2J\n\n---\nBrought to you by Founder Nav, helping entrepreneurs navigate the entrepreneurial ecosystem.
DTSTART:20260425T100049Z
DTEND:20260425T103049Z
END:VEVENT
END:VCALENDAR