BEGIN:VCALENDAR
VERSION:2.0
BEGIN:VEVENT
SUMMARY:Reach out to Cyclotron Road about Cyclotron Road Fellowship
DESCRIPTION:Reach out to them for information about their program.\n\nDescription: A 2-year DOE-funded Lab-Embedded Entrepreneurship Program (LEEP) at Lawrence Berkeley National Laboratory. Supports entrepreneurial scientists with a living stipend, $100K+ in research support, startup curriculum, mentorship, and access to Berkeley Lab's world-class facilities.\n\n- Email: cyclotronroad_admin@lbl.gov

\n- Source: https://founder-nav.com/programs/recDW14kJeJL4vaIB\n\n---\nBrought to you by Founder Nav, helping entrepreneurs navigate the entrepreneurial ecosystem.
DTSTART:20260425T100032Z
DTEND:20260425T103032Z
END:VEVENT
END:VCALENDAR