BEGIN:VCALENDAR
VERSION:2.0
BEGIN:VEVENT
SUMMARY:Reach out to The Thrive Network about Thrive Network Entrepreneurship Incubator Program
DESCRIPTION:Reach out to them for information about their program.\n\nDescription: Free 4–5 month incubator for under-resourced entrepreneurs in Southeast Colorado Springs. Provides hands-on business education, mentorship, mindset coaching, network building, and a pitch night.\n\n- Phone: (719) 301-6212\n- Email: info@thethrivenetworks.org\n- Source: https://founder-nav.com/programs/recDRAf4Z3GPe20NW\n\n---\nBrought to you by Founder Nav, helping entrepreneurs navigate the entrepreneurial ecosystem.
DTSTART:20260425T100044Z
DTEND:20260425T103044Z
END:VEVENT
END:VCALENDAR