BEGIN:VCALENDAR
VERSION:2.0
BEGIN:VEVENT
SUMMARY:Reach out to First Flight Venture Center about Navigator Program
DESCRIPTION:Reach out to them for information about their program.\n\nDescription: At First Flight we pair one of our experienced Navigators with a senior executive in your organization to serve as a trusted advisor.\n\n- Phone: (919) 990-8558\n- Email: info@ffvcnc.org\n- Source: https://founder-nav.com/programs/recDMfdj5yIw8zlf5\n\n---\nBrought to you by Founder Nav, helping entrepreneurs navigate the entrepreneurial ecosystem.
DTSTART:20260425T100002Z
DTEND:20260425T103002Z
END:VEVENT
END:VCALENDAR