BEGIN:VCALENDAR
VERSION:2.0
BEGIN:VEVENT
SUMMARY:Reach out to Venture Partners at CU Boulder about New Venture Challenge (NVC)
DESCRIPTION:Reach out to them for information about their program.\n\nDescription: CU Boulder's premier multi-round entrepreneurship competition with $200,000+ in prizes across Deep Tech and Open tracks. Finals pitch held at the Boulder Theater.\n\n- Email: vpcontact@colorado.edu\n- Source: https://founder-nav.com/programs/recDIE243nHtAMYxg\n\n---\nBrought to you by Founder Nav, helping entrepreneurs navigate the entrepreneurial ecosystem.
DTSTART:20260425T100015Z
DTEND:20260425T103015Z
END:VEVENT
END:VCALENDAR