BEGIN:VCALENDAR
VERSION:2.0
BEGIN:VEVENT
SUMMARY:Reach out to SCORE Southeastern Connecticut – Norwich about Business Workshops & Webinar Series
DESCRIPTION:Reach out to them for information about their program.\n\nDescription: Free or low-cost workshops and webinars on business topics including marketing, finance, social media, business planning, and more for entrepreneurs and small business owners.\n\n- Phone: (860) 388-9508\n- Email: scorechapter@gmail.com\n- Source: https://founder-nav.com/programs/recDGKjGrBvuJso0p\n\n---\nBrought to you by Founder Nav, helping entrepreneurs navigate the entrepreneurial ecosystem.
DTSTART:20260425T100011Z
DTEND:20260425T103011Z
END:VEVENT
END:VCALENDAR