BEGIN:VCALENDAR
VERSION:2.0
BEGIN:VEVENT
SUMMARY:Reach out to The Emerging Enterprise Center (EEC) about Emerging Program (8-Week Accelerator Cohort)
DESCRIPTION:Reach out to them for information about their program.\n\nDescription: Eight-week hybrid accelerator cohort providing expert-led training in marketing, sales, finance, funding, and operations, culminating in a business plan and pitch deck.\n\n- Phone: (302) 737-4343\n- Email: info@eecincubator.com\n- Source: https://founder-nav.com/programs/recDCP7oCo8rwzGet\n\n---\nBrought to you by Founder Nav, helping entrepreneurs navigate the entrepreneurial ecosystem.
DTSTART:20260425T100038Z
DTEND:20260425T103038Z
END:VEVENT
END:VCALENDAR