BEGIN:VCALENDAR
VERSION:2.0
BEGIN:VEVENT
SUMMARY:Reach out to Daybreak Labs about Daybreak Labs Incubator (Lab Space & Residency)
DESCRIPTION:Reach out to them for information about their program.\n\nDescription: Provides research and development facilities, shared equipment, and a supportive peer community to accelerate the growth of life sciences and deep tech startups, enabling founders to focus resources on building their businesses rather than infrastructure.\n\n- Phone: (925) 231-2333\n- Email: info@daybreaklabs.io\n- Source: https://founder-nav.com/programs/recDBHo4jURBYn3O4\n\n---\nBrought to you by Founder Nav, helping entrepreneurs navigate the entrepreneurial ecosystem.
DTSTART:20260425T100042Z
DTEND:20260425T103042Z
END:VEVENT
END:VCALENDAR