BEGIN:VCALENDAR
VERSION:2.0
BEGIN:VEVENT
SUMMARY:Reach out to Mid Iowa SBDC about No-Cost Business Advising & Counseling
DESCRIPTION:Reach out to them for information about their program.\n\nDescription: Free, confidential, customized one-on-one business counseling for entrepreneurs and small businesses in the Mid Iowa region through the America's SBDC Iowa network.\n\n- Phone: (515) 331-8954\n- Email: Jenica@iastate.edu\n- Source: https://founder-nav.com/programs/recD4VdBt1HKkKGfl\n\n---\nBrought to you by Founder Nav, helping entrepreneurs navigate the entrepreneurial ecosystem.
DTSTART:20260425T100020Z
DTEND:20260425T103020Z
END:VEVENT
END:VCALENDAR