BEGIN:VCALENDAR
VERSION:2.0
BEGIN:VEVENT
SUMMARY:Reach out to CONNSTEP about Webinar Series for Manufacturers
DESCRIPTION:Reach out to them for information about their program.\n\nDescription: CONNSTEP's free monthly webinar series covering a wide range of manufacturing industry topics, tools, and best practices.\n\n- Phone: (860) 513-3200\n- Email: info@connstep.org\n- Source: https://founder-nav.com/programs/recCwCxJY0hYCxPCu\n\n---\nBrought to you by Founder Nav, helping entrepreneurs navigate the entrepreneurial ecosystem.
DTSTART:20260425T100005Z
DTEND:20260425T103005Z
END:VEVENT
END:VCALENDAR