BEGIN:VCALENDAR
VERSION:2.0
BEGIN:VEVENT
SUMMARY:Reach out to Greater Norwalk Chamber about Small Business Development Academy
DESCRIPTION:Reach out to them for information about their program.\n\nDescription: Advances economic and community development by connecting local businesses, providing networking opportunities, sharing resources, and advocating for a vibrant, inclusive business environment in Norwalk and surrounding areas.\n\n- Phone: (203) 866-2521\n- Email: info@greaternorwalkchamber.com\n- Source: https://founder-nav.com/programs/recCu7hpgAAM2UXEe\n\n---\nBrought to you by Founder Nav, helping entrepreneurs navigate the entrepreneurial ecosystem.
DTSTART:20260425T100022Z
DTEND:20260425T103022Z
END:VEVENT
END:VCALENDAR