BEGIN:VCALENDAR
VERSION:2.0
BEGIN:VEVENT
SUMMARY:Reach out to UC Davis Venture Catalyst about Venture Catalyst DRIVE Program & Biotech Innovation Gallery
DESCRIPTION:Reach out to them for information about their program.\n\nDescription: Two complementary programs: DRIVE (Distributed Research Incubation & Venture Engine) provides UC Davis-affiliated startups access to a network of lean, thematically oriented mixed office/lab incubator spaces near campus. The Biotech Innovation Gallery (BIG) Pre-accelerator runs September–December with targeted mentoring in IP, regulatory strategy, business modeling, market analysis, and investor pitching, culminating in a showcase at the J.P. Morgan Healthcare Conference in San Francisco.\n\n- Phone: (530) 752-1011\n- Source: https://founder-nav.com/programs/recCovzr0mZAXzzrF\n\n---\nBrought to you by Founder Nav, helping entrepreneurs navigate the entrepreneurial ecosystem.
DTSTART:20260425T100036Z
DTEND:20260425T103036Z
END:VEVENT
END:VCALENDAR