BEGIN:VCALENDAR
VERSION:2.0
BEGIN:VEVENT
SUMMARY:Reach out to Veterans In Business (VIB) Network about EDGE Training Program
DESCRIPTION:Reach out to them for information about their program.\n\nDescription: Free training program for veteran entrepreneurs covering Contracts 101, government contracting, networking strategies, and business development fundamentals.\n\n- Email: rebecca@vibnetwork.org\n- Source: https://founder-nav.com/programs/recCmE7mBo7tE9guv\n\n---\nBrought to you by Founder Nav, helping entrepreneurs navigate the entrepreneurial ecosystem.
DTSTART:20260425T100042Z
DTEND:20260425T103042Z
END:VEVENT
END:VCALENDAR