BEGIN:VCALENDAR
VERSION:2.0
BEGIN:VEVENT
SUMMARY:Reach out to Eastern Maine Development Corporation about Economic Recovery Hub Program
DESCRIPTION:Reach out to them for information about their program.\n\nDescription: A pandemic recovery initiative providing technical assistance, small business grants ($14K–$50K), and entrepreneurial training to new businesses in Eastern Maine counties.\n\n- Phone: (207) 974-3245\n- Email: business@emdc.org\n- Source: https://founder-nav.com/programs/recCjPtWLLAbPf7p4\n\n---\nBrought to you by Founder Nav, helping entrepreneurs navigate the entrepreneurial ecosystem.
DTSTART:20260425T100025Z
DTEND:20260425T103025Z
END:VEVENT
END:VCALENDAR