BEGIN:VCALENDAR
VERSION:2.0
BEGIN:VEVENT
SUMMARY:Reach out to SCORE Greater Hartford about Simple Steps for Starting Your Business (5-session series)
DESCRIPTION:Reach out to them for information about their program.\n\nDescription: Free 5-session workshop series covering startup basics, business concept, marketing plan, financial projections, and funding sources for aspiring entrepreneurs.\n\n- Phone: (860) 519-5851\n- Email: hartford.chapter@scorevolunteer.org\n- Source: https://founder-nav.com/programs/recCdRGOVeCnihDCm\n\n---\nBrought to you by Founder Nav, helping entrepreneurs navigate the entrepreneurial ecosystem.
DTSTART:20260425T100007Z
DTEND:20260425T103007Z
END:VEVENT
END:VCALENDAR