BEGIN:VCALENDAR
VERSION:2.0
BEGIN:VEVENT
SUMMARY:Reach out to Boost Northwest Accelerator about University+ Accelerator
DESCRIPTION:Reach out to them for information about their program.\n\nDescription: A tailored 90-day accelerator specifically for cutting-edge technology startups with a university foundation. Provides strategic insights, global connections, and rapid growth tools.\n\n- Source: https://founder-nav.com/programs/recCYPiT6CKZChCI2\n\n---\nBrought to you by Founder Nav, helping entrepreneurs navigate the entrepreneurial ecosystem.
DTSTART:20260425T100001Z
DTEND:20260425T103001Z
END:VEVENT
END:VCALENDAR