BEGIN:VCALENDAR
VERSION:2.0
BEGIN:VEVENT
SUMMARY:Reach out to Montgomery County Business Center about Multicultural Business Accelerator Program (Spanish)
DESCRIPTION:Reach out to them for information about their program.\n\nDescription: Spanish-language business accelerator program for Latino/Hispanic entrepreneurs in Montgomery County, offering 7-week curriculum on business fundamentals, financing, and operations.\n\n- Source: https://founder-nav.com/programs/recCUUhT8gP0tByzC\n\n---\nBrought to you by Founder Nav, helping entrepreneurs navigate the entrepreneurial ecosystem.
DTSTART:20260425T100047Z
DTEND:20260425T103047Z
END:VEVENT
END:VCALENDAR