BEGIN:VCALENDAR
VERSION:2.0
BEGIN:VEVENT
SUMMARY:Reach out to Norwich Community Development Corporation about Foundry 66 Cowork & Incubator Space
DESCRIPTION:Reach out to them for information about their program.\n\nDescription: Norwich's full-service coworking and incubator center offering private offices, dedicated desks, meeting rooms, and direct access to NCDC business resources.\n\n- Phone: (860) 887-6964\n- Source: https://founder-nav.com/programs/recCPRB8pYeaeIEL7\n\n---\nBrought to you by Founder Nav, helping entrepreneurs navigate the entrepreneurial ecosystem.
DTSTART:20260425T100026Z
DTEND:20260425T103026Z
END:VEVENT
END:VCALENDAR