BEGIN:VCALENDAR
VERSION:2.0
BEGIN:VEVENT
SUMMARY:Reach out to Unknown Hub about This Week at Hub101
DESCRIPTION:Reach out to them for information about their program.\n\nDescription: \- Guides entrepreneurs through idea generation, validation, development, and business launch in a structured 14-week format.\n\- Helps founders refine and strengthen their pitch, progressing from initial workshopping to public presentations.\n\- Empowers founders with expert insights, peer learning, accountability, and actionable growth strategies in a four-week, theme-based format.\n\- Offers free, weekly interactive workshops for students, members, and the community to learn, collaborate, and create.\n\- Provides a one-week experience for high school and college students to test startup ideas and validate customer problems.\n\- Facilitates community collaboration to solve business challenges, launch ventures, and gain practical experience over eight weeks.\n\- Connects entrepreneurs with peers, tools, and resources to gain new perspectives in a free, supportive environment.\n\n- Phone: (805) 493-3661\n- Email: info@hub101.org\n- Source: https://founder-nav.com/programs/recCJIyVjrfYa3CWt\n\n---\nBrought to you by Founder Nav, helping entrepreneurs navigate the entrepreneurial ecosystem.
DTSTART:20260425T100053Z
DTEND:20260425T103053Z
END:VEVENT
END:VCALENDAR