BEGIN:VCALENDAR
VERSION:2.0
BEGIN:VEVENT
SUMMARY:Reach out to Unknown Hub about Catapult Business Growth Network
DESCRIPTION:Reach out to them for information about their program.\n\nDescription: Offers a peer-driven network for business owners to gain growth strategies, practical tools, and mentorship through intensive sessions, fostering accountability and impactful relationships to accelerate business success and expansion.\n\n- Phone: (909) 537-5708\n- Email: entre@csusb.edu\n- Source: https://founder-nav.com/programs/recCItwpOWSjcI4qt\n\n---\nBrought to you by Founder Nav, helping entrepreneurs navigate the entrepreneurial ecosystem.
DTSTART:20260425T100042Z
DTEND:20260425T103042Z
END:VEVENT
END:VCALENDAR