BEGIN:VCALENDAR
VERSION:2.0
BEGIN:VEVENT
SUMMARY:Reach out to Central Mountain Entrepreneurs about Ascent Accelerator (Central Mountain Entrepreneurs)
DESCRIPTION:Reach out to them for information about their program.\n\nDescription: Free 12-week accelerator for businesses in Colorado's Central Mountain region. Includes bi-weekly group training, 1:1 consulting, legal/accounting/funding guidance, and a culminating Startup Summit pitch event.\n\n- Phone: (719) 207-0801\n- Email: deborah@chaffeecountyedc.com\n- Source: https://founder-nav.com/programs/recC9NKZ0L5CJmAkL\n\n---\nBrought to you by Founder Nav, helping entrepreneurs navigate the entrepreneurial ecosystem.
DTSTART:20260425T100012Z
DTEND:20260425T103012Z
END:VEVENT
END:VCALENDAR