BEGIN:VCALENDAR
VERSION:2.0
BEGIN:VEVENT
SUMMARY:Reach out to EO Hawaii (Entrepreneurs’ Organization – Hawaii Chapter) about Hawaii Wave Dual-Use Incubator
DESCRIPTION:Reach out to them for information about their program.\n\nDescription: Ten-month incubator program by PICHTR helping civilian technology companies adapt and transition their innovations for defense and dual-use applications. Provides technical support, DoD connections, market access, and funding navigation for the defense-tech sector.\n\n- Phone: (808) 943-9581\n- Email: info@pichtr.org\n- Source: https://founder-nav.com/programs/recC5DlalkGpEpa3e\n\n---\nBrought to you by Founder Nav, helping entrepreneurs navigate the entrepreneurial ecosystem.
DTSTART:20260425T100025Z
DTEND:20260425T103025Z
END:VEVENT
END:VCALENDAR