BEGIN:VCALENDAR
VERSION:2.0
BEGIN:VEVENT
SUMMARY:Reach out to The Stamford Partnership about Stamford Startup Studio (S3)
DESCRIPTION:Reach out to them for information about their program.\n\nDescription: Focuses on improving quality of life by connecting businesses, government, and nonprofits to drive economic and social impact, foster innovation, support workforce development, and build a thriving, tech-enabled community in the Stamford region.\n\n- Phone: +1 203 274 5750\n- Email: hello@stamfordpartnership.org\n- Source: https://founder-nav.com/programs/recC43SP22X1V7pjL\n\n---\nBrought to you by Founder Nav, helping entrepreneurs navigate the entrepreneurial ecosystem.
DTSTART:20260425T100038Z
DTEND:20260425T103038Z
END:VEVENT
END:VCALENDAR