BEGIN:VCALENDAR
VERSION:2.0
BEGIN:VEVENT
SUMMARY:Reach out to Carlsen Center for Innovation & Entrepreneurship about Traction Lab Venture Accelerator
DESCRIPTION:Reach out to them for information about their program.\n\nDescription: Partners with venture-backable startups, offering expert mentorship, collaborative sessions, and accountability to help founders achieve growth milestones and prepare for investment and fundraising.\n\n- Phone: (916) 278-5001\n- Email: carlsen.center@csus.edu\n- Source: https://founder-nav.com/programs/recC01ChoHQDDaJPD\n\n---\nBrought to you by Founder Nav, helping entrepreneurs navigate the entrepreneurial ecosystem.
DTSTART:20260425T100038Z
DTEND:20260425T103038Z
END:VEVENT
END:VCALENDAR