BEGIN:VCALENDAR
VERSION:2.0
BEGIN:VEVENT
SUMMARY:Reach out to Startup UMD about Startup Fundamentals Workshops
DESCRIPTION:Reach out to them for information about their program.\n\nDescription: A series of open-access workshops covering foundational entrepreneurship topics including ideation, customer discovery, business models, pitching, and funding strategies. Open to UMD students, faculty, staff, and community members. Serves as an accessible entry point into the UMD entrepreneurship ecosystem, with pathways to the Dingman Center and Do Good accelerator programs.\n\n- Source: https://founder-nav.com/programs/recBvSrOdpKLSlqNK\n\n---\nBrought to you by Founder Nav, helping entrepreneurs navigate the entrepreneurial ecosystem.
DTSTART:20260425T100023Z
DTEND:20260425T103023Z
END:VEVENT
END:VCALENDAR