BEGIN:VCALENDAR
VERSION:2.0
BEGIN:VEVENT
SUMMARY:Reach out to SBDC Stevenson University about Maryland SBDC Business Consulting & Training
DESCRIPTION:Reach out to them for information about their program.\n\nDescription: Located in Baltimore County, Maryland, the institution features multiple campuses offering both vibrant residential life and peaceful rural surroundings, providing visitors and students with diverse environments for learning and engagement.\n\n- Phone: (410) 486-7000\n- Source: https://founder-nav.com/programs/recBrdokMNlZ8B2rS\n\n---\nBrought to you by Founder Nav, helping entrepreneurs navigate the entrepreneurial ecosystem.
DTSTART:20260425T100015Z
DTEND:20260425T103015Z
END:VEVENT
END:VCALENDAR