BEGIN:VCALENDAR
VERSION:2.0
BEGIN:VEVENT
SUMMARY:Reach out to Feed the Hunger Fund — San Francisco about Food Entrepreneur Business Coaching
DESCRIPTION:Reach out to them for information about their program.\n\nDescription: Bilingual (English/Spanish) business coaching for food entrepreneurs including farmers, food truck operators, and restaurant owners, provided alongside CDFI microloan access.\n\n- Phone: (415) 432-8202\n- Email: info@feed-hunger.com\n- Source: https://founder-nav.com/programs/recBq3AWHVd37R5lG\n\n---\nBrought to you by Founder Nav, helping entrepreneurs navigate the entrepreneurial ecosystem.
DTSTART:20260425T100048Z
DTEND:20260425T103048Z
END:VEVENT
END:VCALENDAR