BEGIN:VCALENDAR
VERSION:2.0
BEGIN:VEVENT
SUMMARY:Reach out to SBDC at Pasadena City College about PCC Venture Launch
DESCRIPTION:Reach out to them for information about their program.\n\nDescription: Offers a four-week, team-based program guiding early-stage startups through customer discovery, business model development, and real-world validation, supported by experienced professionals to prepare participants for a pitch contest.\n\n- Phone: (626) 585-3106\n- Email: PCCVentureLaunch@pasadena.edu\n- Source: https://founder-nav.com/programs/recBm4zuTn8yn45WF\n\n---\nBrought to you by Founder Nav, helping entrepreneurs navigate the entrepreneurial ecosystem.
DTSTART:20260425T100021Z
DTEND:20260425T103021Z
END:VEVENT
END:VCALENDAR