BEGIN:VCALENDAR
VERSION:2.0
BEGIN:VEVENT
SUMMARY:Reach out to Southeast Iowa SBDC about No-Cost Business Advising & Counseling
DESCRIPTION:Reach out to them for information about their program.\n\nDescription: Free, confidential, customized one-on-one business counseling for entrepreneurs and small businesses in Southeast Iowa through the America's SBDC Iowa network.\n\n- Phone: (515) 294-2030\n- Email: jclover@scciowa.edu\n- Source: https://founder-nav.com/programs/recBj51sOzyYyW2K1\n\n---\nBrought to you by Founder Nav, helping entrepreneurs navigate the entrepreneurial ecosystem.
DTSTART:20260425T100006Z
DTEND:20260425T103006Z
END:VEVENT
END:VCALENDAR