BEGIN:VCALENDAR
VERSION:2.0
BEGIN:VEVENT
SUMMARY:Reach out to Greater New Haven Chamber of Commerce about Greater New Haven Leadership Center
DESCRIPTION:Reach out to them for information about their program.\n\nDescription: Offers practical training in leadership, team management, and collaboration, with a focus on strategic planning, conflict resolution, and real-world project work to develop essential professional skills and foster inclusion in a diverse workforce.\n\n- Phone: (203) 787-6735\n- Email: gary@gnhcc.com\n- Source: https://founder-nav.com/programs/recBfCMlb6rAhlciR\n\n---\nBrought to you by Founder Nav, helping entrepreneurs navigate the entrepreneurial ecosystem.
DTSTART:20260425T100025Z
DTEND:20260425T103025Z
END:VEVENT
END:VCALENDAR