BEGIN:VCALENDAR
VERSION:2.0
BEGIN:VEVENT
SUMMARY:Reach out to IGNOSI about IGNOSI Medtech Incubator & Accelerator
DESCRIPTION:Reach out to them for information about their program.\n\nDescription: IGNOSI is a MedTech-focused incubator and accelerator based in Wilmington, Delaware, supporting inventors building medical technology startups. The program provides state-of-the-art lab infrastructure for prototyping, animal experiments, and engineering, along with business development, legal, and patent law support. IGNOSI offers founder-centered, cohort-based mentoring with tailored investor connections.\n\n- Source: https://founder-nav.com/programs/recBbnNNo10IvDmyJ\n\n---\nBrought to you by Founder Nav, helping entrepreneurs navigate the entrepreneurial ecosystem.
DTSTART:20260425T100038Z
DTEND:20260425T103038Z
END:VEVENT
END:VCALENDAR