BEGIN:VCALENDAR
VERSION:2.0
BEGIN:VEVENT
SUMMARY:Reach out to SCORE of Maui County about Free Business Mentoring
DESCRIPTION:Reach out to them for information about their program.\n\nDescription: Free, confidential one-on-one business mentoring for Maui County entrepreneurs and small business owners provided by SCORE of Maui County, a volunteer nonprofit and SBA resource partner. Experienced volunteer mentors offer advice on business planning, finance, marketing, and operations for startups and established businesses.\n\n- Phone: (808) 214-2470\n- Email: help@score.org\n- Source: https://founder-nav.com/programs/recBYZoaiVzj5MfcL\n\n---\nBrought to you by Founder Nav, helping entrepreneurs navigate the entrepreneurial ecosystem.
DTSTART:20260425T100049Z
DTEND:20260425T103049Z
END:VEVENT
END:VCALENDAR