BEGIN:VCALENDAR
VERSION:2.0
BEGIN:VEVENT
SUMMARY:Reach out to Emporia Area Chamber about Step UP! Leadership Training Program
DESCRIPTION:Reach out to them for information about their program.\n\nDescription: Affordable, customized leadership training for businesses and individuals in Emporia, including 1:1 coaching and peer coaching to develop effective leaders at all levels.\n\n- Phone: (620) 342-1600\n- Source: https://founder-nav.com/programs/recBWvuYsnHD1qMZn\n\n---\nBrought to you by Founder Nav, helping entrepreneurs navigate the entrepreneurial ecosystem.
DTSTART:20260425T100004Z
DTEND:20260425T103004Z
END:VEVENT
END:VCALENDAR