BEGIN:VCALENDAR
VERSION:2.0
BEGIN:VEVENT
SUMMARY:Reach out to Catalyze CU about Catalyze CU Summer Accelerator
DESCRIPTION:Reach out to them for information about their program.\n\nDescription: Summer-long equity-free startup accelerator for CU Boulder ventures. Provides world-class mentorship, dedicated co-working space, and funding for the most promising CU student, faculty, and staff ventures.\n\n- Email: catalyzecu@colorado.edu\n- Source: https://founder-nav.com/programs/recBPJen2LUbHi3lK\n\n---\nBrought to you by Founder Nav, helping entrepreneurs navigate the entrepreneurial ecosystem.
DTSTART:20260425T100033Z
DTEND:20260425T103033Z
END:VEVENT
END:VCALENDAR