BEGIN:VCALENDAR
VERSION:2.0
BEGIN:VEVENT
SUMMARY:Reach out to Bridgeport Regional Business Council about THRIVE Emerging Leaders
DESCRIPTION:Reach out to them for information about their program.\n\nDescription: BRBC program for young professionals in their 20s and 30s in the Greater Bridgeport area, building community connections through social and professional events.\n\n- Phone: (203) 335-3800\n- Email: natalie@prycelessconsulting.com\n- Source: https://founder-nav.com/programs/recBIDuj28exFoQRQ\n\n---\nBrought to you by Founder Nav, helping entrepreneurs navigate the entrepreneurial ecosystem.
DTSTART:20260425T100023Z
DTEND:20260425T103023Z
END:VEVENT
END:VCALENDAR