BEGIN:VCALENDAR
VERSION:2.0
BEGIN:VEVENT
SUMMARY:Reach out to Warehouse Innovation Hub about Warehouse Acceleration Roadmap (Individual Mentorship)
DESCRIPTION:Reach out to them for information about their program.\n\nDescription: Custom, ongoing individual mentorship and acceleration for Northern Colorado tech and manufacturing scale-up companies. Provides personalized strategic roadmap, expert mentors, and community access.\n\n- Phone: (970) 541-0991\n- Source: https://founder-nav.com/programs/recBI07gECvdhTodx\n\n---\nBrought to you by Founder Nav, helping entrepreneurs navigate the entrepreneurial ecosystem.
DTSTART:20260425T100054Z
DTEND:20260425T103054Z
END:VEVENT
END:VCALENDAR