BEGIN:VCALENDAR
VERSION:2.0
BEGIN:VEVENT
SUMMARY:Reach out to Maine Center for Entrepreneurs (MCE) about Visionary Leadership Program
DESCRIPTION:Reach out to them for information about their program.\n\nDescription: A leadership development program for emerging Maine business leaders and CEOs designed to overcome challenges of growing and scaling, offered in collaboration with UMaine Graduate and Professional Center.\n\n- Source: https://founder-nav.com/programs/recBF9CmcBAEFt43z\n\n---\nBrought to you by Founder Nav, helping entrepreneurs navigate the entrepreneurial ecosystem.
DTSTART:20260425T100006Z
DTEND:20260425T103006Z
END:VEVENT
END:VCALENDAR