BEGIN:VCALENDAR
VERSION:2.0
BEGIN:VEVENT
SUMMARY:Reach out to Startup Shell about Startup Shell Founders Incubator Program
DESCRIPTION:Reach out to them for information about their program.\n\nDescription: A student-run startup incubator at the University of Maryland for undergraduate and graduate students launching ventures. Provides 24/7 co-working space in the EA Fernandez IDEA Factory, access to over $100K in physical and digital resources (AWS, DigitalOcean, Dropbox credits), industry mentors, alumni network, and IP assistance. Follows a year-long membership cycle.\n\n- Source: https://founder-nav.com/programs/recB6EqkVKEVTIWZK\n\n---\nBrought to you by Founder Nav, helping entrepreneurs navigate the entrepreneurial ecosystem.
DTSTART:20260425T100006Z
DTEND:20260425T103006Z
END:VEVENT
END:VCALENDAR